BEGIN:VCALENDAR
VERSION:2.0
PRODID:-//160.153.0.119//NONSGML kigkonsult.se iCalcreator 2.26.9//
CALSCALE:GREGORIAN
METHOD:PUBLISH
X-FROM-URL:https://livingwordca.com
X-WR-TIMEZONE:America/Los_Angeles
BEGIN:VTIMEZONE
TZID:America/Los_Angeles
X-LIC-LOCATION:America/Los_Angeles
BEGIN:STANDARD
DTSTART:20251102T020000
TZOFFSETFROM:-0700
TZOFFSETTO:-0800
RDATE:20261101T020000
TZNAME:PST
END:STANDARD
BEGIN:DAYLIGHT
DTSTART:20260308T020000
TZOFFSETFROM:-0800
TZOFFSETTO:-0700
RDATE:20270314T020000
TZNAME:PDT
END:DAYLIGHT
END:VTIMEZONE
BEGIN:VEVENT
UID:ai1ec-4162@livingwordca.com
DTSTAMP:20260419T113255Z
CATEGORIES:
CONTACT:
DESCRIPTION:<p>Here we gather together as one to enter our Lord’s presence 
 to receive His eternal gifts in Word and Sacrament. The Service centers on
  God’s love for us\, what He gives to us\, and our continual need for Him.
 </p>
DTSTART;TZID=America/Los_Angeles:20230423T093000
DTEND;TZID=America/Los_Angeles:20230423T103000
RRULE:FREQ=WEEKLY;BYDAY=SU;WKST=SU
SEQUENCE:0
SUMMARY:Divine Service
URL:https://livingwordca.com/?ai1ec_event=divine-service-3
X-COST-TYPE:free
END:VEVENT
BEGIN:VEVENT
UID:ai1ec-4163@livingwordca.com
DTSTAMP:20260419T113255Z
CATEGORIES:
CONTACT:
DESCRIPTION:<p>The adults gather together to study the Holy Scriptures led 
 by Pastor.</p>\n<p>The children gather in age appropriate groups to learn 
 God’s teachings through Bible History.</p>
DTSTART;TZID=America/Los_Angeles:20230423T110000
DTEND;TZID=America/Los_Angeles:20230423T114500
RRULE:FREQ=WEEKLY;BYDAY=SU;WKST=SU
SEQUENCE:0
SUMMARY:Bible Class & Sunday School
URL:https://livingwordca.com/?ai1ec_event=bible-class-sunday-school
X-COST-TYPE:free
END:VEVENT
BEGIN:VEVENT
UID:ai1ec-2756@livingwordca.com
DTSTAMP:20260419T113255Z
CATEGORIES:
CONTACT:
DESCRIPTION:
DTSTART;TZID=America/Los_Angeles:20230425T100000
DTEND;TZID=America/Los_Angeles:20230425T110000
EXDATE;TZID=America/Los_Angeles:20191224T100000
EXDATE;TZID=America/Los_Angeles:20191231T100000
EXDATE;TZID=America/Los_Angeles:20200107T100000
RRULE:FREQ=WEEKLY;BYDAY=TU;WKST=SU
SEQUENCE:0
SUMMARY:Ladies’ Bible Study
URL:https://livingwordca.com/?ai1ec_event=ladies-bible-study
X-COST-TYPE:free
END:VEVENT
BEGIN:VEVENT
UID:ai1ec-6749@livingwordca.com
DTSTAMP:20260419T113255Z
CATEGORIES:
CONTACT:
DESCRIPTION:
DTSTART;TZID=America/Los_Angeles:20251028T190000
DTEND;TZID=America/Los_Angeles:20251028T200000
LOCATION:Living Word Evangelical Lutheran Church
SEQUENCE:0
SUMMARY:Divine Service – Sts. Simon & Jude
URL:https://livingwordca.com/?ai1ec_event=divine-service-sts-simon-jude
X-COST-TYPE:free
END:VEVENT
BEGIN:VEVENT
UID:ai1ec-6750@livingwordca.com
DTSTAMP:20260419T113255Z
CATEGORIES:
CONTACT:
DESCRIPTION:
DTSTART;TZID=America/Los_Angeles:20251126T190000
DTEND;TZID=America/Los_Angeles:20251126T200000
SEQUENCE:0
SUMMARY:Divine Service – Thanksgiving Eve
URL:https://livingwordca.com/?ai1ec_event=divine-service-thanksgiving-eve
X-COST-TYPE:free
END:VEVENT
BEGIN:VEVENT
UID:ai1ec-6752@livingwordca.com
DTSTAMP:20260419T113255Z
CATEGORIES:
CONTACT:
DESCRIPTION:
DTSTART;TZID=America/Los_Angeles:20251203T190000
DTEND;TZID=America/Los_Angeles:20251203T200000
SEQUENCE:0
SUMMARY:Divine Service – Midweek Advent 1
URL:https://livingwordca.com/?ai1ec_event=divine-service-midweek-lent-1
X-COST-TYPE:free
END:VEVENT
BEGIN:VEVENT
UID:ai1ec-6753@livingwordca.com
DTSTAMP:20260419T113255Z
CATEGORIES:
CONTACT:
DESCRIPTION:
DTSTART;TZID=America/Los_Angeles:20251210T190000
DTEND;TZID=America/Los_Angeles:20251210T200000
SEQUENCE:0
SUMMARY:Divine Service – Midweek Advent 2
URL:https://livingwordca.com/?ai1ec_event=divine-service-midweek-advent-2
X-COST-TYPE:free
END:VEVENT
BEGIN:VEVENT
UID:ai1ec-6754@livingwordca.com
DTSTAMP:20260419T113255Z
CATEGORIES:
CONTACT:
DESCRIPTION:
DTSTART;TZID=America/Los_Angeles:20251217T190000
DTEND;TZID=America/Los_Angeles:20251217T200000
SEQUENCE:0
SUMMARY:Divine Service – Midweek Advent 3
URL:https://livingwordca.com/?ai1ec_event=divine-service-midweek-advent-3
X-COST-TYPE:free
END:VEVENT
BEGIN:VEVENT
UID:ai1ec-5958@livingwordca.com
DTSTAMP:20260419T113255Z
CATEGORIES:
CONTACT:
DESCRIPTION:
DTSTART;TZID=America/Los_Angeles:20251224T190000
DTEND;TZID=America/Los_Angeles:20251224T200000
SEQUENCE:0
SUMMARY:Divine Service – Christmas Eve
URL:https://livingwordca.com/?ai1ec_event=divine-service-christmas-eve
X-COST-TYPE:free
END:VEVENT
BEGIN:VEVENT
UID:ai1ec-5959@livingwordca.com
DTSTAMP:20260419T113255Z
CATEGORIES:
CONTACT:
DESCRIPTION:
DTSTART;TZID=America/Los_Angeles:20251225T093000
DTEND;TZID=America/Los_Angeles:20251225T103000
SEQUENCE:0
SUMMARY:Divine Service – Christmas Day
URL:https://livingwordca.com/?ai1ec_event=divine-service-christmas-day
X-COST-TYPE:free
END:VEVENT
BEGIN:VEVENT
UID:ai1ec-5960@livingwordca.com
DTSTAMP:20260419T113255Z
CATEGORIES:
CONTACT:
DESCRIPTION:
DTSTART;TZID=America/Los_Angeles:20251226T093000
DTEND;TZID=America/Los_Angeles:20251226T103000
SEQUENCE:0
SUMMARY:Divine Service – St. Stephen
URL:https://livingwordca.com/?ai1ec_event=divine-service-st-stephen
X-COST-TYPE:free
END:VEVENT
BEGIN:VEVENT
UID:ai1ec-5961@livingwordca.com
DTSTAMP:20260419T113255Z
CATEGORIES:
CONTACT:
DESCRIPTION:
DTSTART;TZID=America/Los_Angeles:20251227T093000
DTEND;TZID=America/Los_Angeles:20251227T103000
SEQUENCE:0
SUMMARY:Divine Service – St. John
URL:https://livingwordca.com/?ai1ec_event=divine-service-st-john
X-COST-TYPE:free
END:VEVENT
BEGIN:VEVENT
UID:ai1ec-5963@livingwordca.com
DTSTAMP:20260419T113255Z
CATEGORIES:
CONTACT:
DESCRIPTION:
DTSTART;TZID=America/Los_Angeles:20260101T093000
DTEND;TZID=America/Los_Angeles:20260101T103000
SEQUENCE:0
SUMMARY:Divine Service – Circumcision of Our Lord
URL:https://livingwordca.com/?ai1ec_event=divine-service-circumcision-of-ou
 r-lord
X-COST-TYPE:free
END:VEVENT
BEGIN:VEVENT
UID:ai1ec-6755@livingwordca.com
DTSTAMP:20260419T113255Z
CATEGORIES:
CONTACT:
DESCRIPTION:
DTSTART;TZID=America/Los_Angeles:20260106T190000
DTEND;TZID=America/Los_Angeles:20260106T200000
SEQUENCE:0
SUMMARY:Divine Service – Feast of the Epiphany of Our Lord
URL:https://livingwordca.com/?ai1ec_event=divine-service-feast-of-the-epiph
 any-of-our-lord
X-COST-TYPE:free
END:VEVENT
BEGIN:VEVENT
UID:ai1ec-5995@livingwordca.com
DTSTAMP:20260419T113255Z
CATEGORIES:
CONTACT:
DESCRIPTION:
DTSTART;TZID=America/Los_Angeles:20260113T190000
DTEND;TZID=America/Los_Angeles:20260113T200000
SEQUENCE:0
SUMMARY:Divine Service – Baptism of Our Lord
URL:https://livingwordca.com/?ai1ec_event=baptism-of-our-lord
X-COST-TYPE:free
END:VEVENT
BEGIN:VEVENT
UID:ai1ec-6904@livingwordca.com
DTSTAMP:20260419T113255Z
CATEGORIES:
CONTACT:
DESCRIPTION:<p>Join us on our Lenten journey. We begin with the Imposition 
 of Ashes.</p>
DTSTART;TZID=America/Los_Angeles:20260218T190000
DTEND;TZID=America/Los_Angeles:20260218T200000
SEQUENCE:0
SUMMARY:Divine Service – Ash Wednesday
URL:https://livingwordca.com/?ai1ec_event=divine-service-ash-wednesday
X-COST-TYPE:free
END:VEVENT
BEGIN:VEVENT
UID:ai1ec-6905@livingwordca.com
DTSTAMP:20260419T113255Z
CATEGORIES:
CONTACT:
DESCRIPTION:
DTSTART;TZID=America/Los_Angeles:20260225T190000
DTEND;TZID=America/Los_Angeles:20260225T200000
RDATE;TZID=America/Los_Angeles:20260304T190000
RDATE;TZID=America/Los_Angeles:20260311T190000
RDATE;TZID=America/Los_Angeles:20260318T190000
RDATE;TZID=America/Los_Angeles:20260325T190000
SEQUENCE:0
SUMMARY:Divine Service – Midweek Lent
URL:https://livingwordca.com/?ai1ec_event=divine-service-midweek-lent
X-COST-TYPE:free
END:VEVENT
BEGIN:VEVENT
UID:ai1ec-6906@livingwordca.com
DTSTAMP:20260419T113255Z
CATEGORIES:
CONTACT:
DESCRIPTION:<p>The beginning of our Three-Day Service. Maundy Thursday high
 lights the institution of the Supper.</p>
DTSTART;TZID=America/Los_Angeles:20260402T190000
DTEND;TZID=America/Los_Angeles:20260402T200000
SEQUENCE:0
SUMMARY:Triduum – Holy Thursday
URL:https://livingwordca.com/?ai1ec_event=triduum-holy-thursday
X-COST-TYPE:free
END:VEVENT
BEGIN:VEVENT
UID:ai1ec-6907@livingwordca.com
DTSTAMP:20260419T113255Z
CATEGORIES:
CONTACT:
DESCRIPTION:<p>The middle Service in the Triduum (Three-Day) Service. It hi
 ghlights our Lord’s Passion.</p>
DTSTART;TZID=America/Los_Angeles:20260403T130000
DTEND;TZID=America/Los_Angeles:20260403T140000
SEQUENCE:0
SUMMARY:Triduum – Good Friday
URL:https://livingwordca.com/?ai1ec_event=triduum-good-friday
X-COST-TYPE:free
END:VEVENT
BEGIN:VEVENT
UID:ai1ec-6908@livingwordca.com
DTSTAMP:20260419T113255Z
CATEGORIES:
CONTACT:
DESCRIPTION:<p>The culmination of the Triduum (Three-Day) Service. Our Lord
  lives!</p>
DTSTART;TZID=America/Los_Angeles:20260404T193000
DTEND;TZID=America/Los_Angeles:20260404T203000
SEQUENCE:0
SUMMARY:Triduum – Easter Vigil
URL:https://livingwordca.com/?ai1ec_event=triduum-easter-vigil
X-COST-TYPE:free
END:VEVENT
BEGIN:VEVENT
UID:ai1ec-6909@livingwordca.com
DTSTAMP:20260419T113255Z
CATEGORIES:
CONTACT:
DESCRIPTION:
DTSTART;TZID=America/Los_Angeles:20260406T093000
DTEND;TZID=America/Los_Angeles:20260406T103000
SEQUENCE:0
SUMMARY:Divine Service – Easter Monday
URL:https://livingwordca.com/?ai1ec_event=divine-service-easter-monday
X-COST-TYPE:free
END:VEVENT
END:VCALENDAR
